BEGIN:VCALENDAR
VERSION:2.0
PRODID:-//SonShine Club - ECPv6.15.20//NONSGML v1.0//EN
CALSCALE:GREGORIAN
METHOD:PUBLISH
X-ORIGINAL-URL:https://sonshineclub.org
X-WR-CALDESC:Events for SonShine Club
REFRESH-INTERVAL;VALUE=DURATION:PT1H
X-Robots-Tag:noindex
X-PUBLISHED-TTL:PT1H
BEGIN:VTIMEZONE
TZID:America/New_York
BEGIN:DAYLIGHT
TZOFFSETFROM:-0500
TZOFFSETTO:-0400
TZNAME:EDT
DTSTART:20250309T070000
END:DAYLIGHT
BEGIN:STANDARD
TZOFFSETFROM:-0400
TZOFFSETTO:-0500
TZNAME:EST
DTSTART:20251102T060000
END:STANDARD
BEGIN:DAYLIGHT
TZOFFSETFROM:-0500
TZOFFSETTO:-0400
TZNAME:EDT
DTSTART:20260308T070000
END:DAYLIGHT
BEGIN:STANDARD
TZOFFSETFROM:-0400
TZOFFSETTO:-0500
TZNAME:EST
DTSTART:20261101T060000
END:STANDARD
BEGIN:DAYLIGHT
TZOFFSETFROM:-0500
TZOFFSETTO:-0400
TZNAME:EDT
DTSTART:20270314T070000
END:DAYLIGHT
BEGIN:STANDARD
TZOFFSETFROM:-0400
TZOFFSETTO:-0500
TZNAME:EST
DTSTART:20271107T060000
END:STANDARD
END:VTIMEZONE
BEGIN:VEVENT
DTSTART;TZID=America/New_York:20260801T090000
DTEND;TZID=America/New_York:20260801T120000
DTSTAMP:20260423T171017
CREATED:20251201T184415Z
LAST-MODIFIED:20260406T193629Z
UID:8408-1785574800-1785585600@sonshineclub.org
SUMMARY:SonShine Club @ Hope Remains Ranch - Family Fun Day for all locations
DESCRIPTION:
URL:https://sonshineclub.org/event/sonshine-club-hope-remains-ranch/
LOCATION:Hope Remains Youth Ranch\, 1771 John Dodd Rd.\, Wellford\, SC\, 29385
ORGANIZER;CN="SonShine Club":MAILTO:sbatson@sonshineclub.org
END:VEVENT
BEGIN:VEVENT
DTSTART;TZID=America/New_York:20260815T090000
DTEND;TZID=America/New_York:20260815T170000
DTSTAMP:20260423T171017
CREATED:20251201T184545Z
LAST-MODIFIED:20251201T184545Z
UID:8412-1786784400-1786813200@sonshineclub.org
SUMMARY:Caring for Caregivers - TO BE DETERMINED
DESCRIPTION:
URL:https://sonshineclub.org/event/caring-for-caregivers-to-be-determined/
LOCATION:SC
ORGANIZER;CN="SonShine Club":MAILTO:sbatson@sonshineclub.org
END:VEVENT
BEGIN:VEVENT
DTSTART;TZID=America/New_York:20260815T100000
DTEND;TZID=America/New_York:20260815T150000
DTSTAMP:20260423T171017
CREATED:20251201T184455Z
LAST-MODIFIED:20251201T184455Z
UID:8410-1786788000-1786806000@sonshineclub.org
SUMMARY:SonShine Club Super Saturday
DESCRIPTION:
URL:https://sonshineclub.org/event/sonshine-club-super-saturday-14/
LOCATION:First Baptist Spartanburg Hangar\, 250 East Main Street\, Spartanburg\, SC\, 29306\, United States
ORGANIZER;CN="SonShine Club":MAILTO:sbatson@sonshineclub.org
END:VEVENT
BEGIN:VEVENT
DTSTART;TZID=America/New_York:20260815T100000
DTEND;TZID=America/New_York:20260815T150000
DTSTAMP:20260423T171017
CREATED:20260406T192944Z
LAST-MODIFIED:20260406T192944Z
UID:8790-1786788000-1786806000@sonshineclub.org
SUMMARY:SonShine Club Super Saturday @ Lake Bowen Baptist
DESCRIPTION:
URL:https://sonshineclub.org/event/sonshine-club-super-saturday-lake-bowen-baptist-5/
LOCATION:Lake Bowen Baptist\, 404 Sugar Ridge Rd\, Inman\, SC\, 29349\, United States
ORGANIZER;CN="SonShine Club":MAILTO:sbatson@sonshineclub.org
END:VEVENT
END:VCALENDAR