BEGIN:VCALENDAR
VERSION:2.0
PRODID:-//SonShine Club - ECPv6.15.20//NONSGML v1.0//EN
CALSCALE:GREGORIAN
METHOD:PUBLISH
X-ORIGINAL-URL:https://sonshineclub.org
X-WR-CALDESC:Events for SonShine Club
REFRESH-INTERVAL;VALUE=DURATION:PT1H
X-Robots-Tag:noindex
X-PUBLISHED-TTL:PT1H
BEGIN:VTIMEZONE
TZID:America/New_York
BEGIN:DAYLIGHT
TZOFFSETFROM:-0500
TZOFFSETTO:-0400
TZNAME:EDT
DTSTART:20250309T070000
END:DAYLIGHT
BEGIN:STANDARD
TZOFFSETFROM:-0400
TZOFFSETTO:-0500
TZNAME:EST
DTSTART:20251102T060000
END:STANDARD
BEGIN:DAYLIGHT
TZOFFSETFROM:-0500
TZOFFSETTO:-0400
TZNAME:EDT
DTSTART:20260308T070000
END:DAYLIGHT
BEGIN:STANDARD
TZOFFSETFROM:-0400
TZOFFSETTO:-0500
TZNAME:EST
DTSTART:20261101T060000
END:STANDARD
BEGIN:DAYLIGHT
TZOFFSETFROM:-0500
TZOFFSETTO:-0400
TZNAME:EDT
DTSTART:20270314T070000
END:DAYLIGHT
BEGIN:STANDARD
TZOFFSETFROM:-0400
TZOFFSETTO:-0500
TZNAME:EST
DTSTART:20271107T060000
END:STANDARD
END:VTIMEZONE
BEGIN:VEVENT
DTSTART;TZID=America/New_York:20260905T090000
DTEND;TZID=America/New_York:20260905T123000
DTSTAMP:20260423T202659
CREATED:20251201T184727Z
LAST-MODIFIED:20260406T193740Z
UID:8414-1788598800-1788611400@sonshineclub.org
SUMMARY:SonShine Club @ The Big E - Family Fun Day for all locations - NOT CONFIRMED
DESCRIPTION:
URL:https://sonshineclub.org/event/sonshine-club-the-big-e/
LOCATION:Big E – Gaffney\, 1100 Factory Shops Blvd\, Gaffney\, South Carolina\, 29341\, United States
ORGANIZER;CN="SonShine Club":MAILTO:sbatson@sonshineclub.org
END:VEVENT
BEGIN:VEVENT
DTSTART;TZID=America/New_York:20260919T080000
DTEND;TZID=America/New_York:20260919T093000
DTSTAMP:20260423T202659
CREATED:20251201T184845Z
LAST-MODIFIED:20251201T184845Z
UID:8418-1789804800-1789810200@sonshineclub.org
SUMMARY:Volunteer Training
DESCRIPTION:
URL:https://sonshineclub.org/event/volunteer-training/
LOCATION:First Baptist Spartanburg Hangar\, 250 East Main Street\, Spartanburg\, SC\, 29306\, United States
ORGANIZER;CN="SonShine Club":MAILTO:sbatson@sonshineclub.org
END:VEVENT
BEGIN:VEVENT
DTSTART;TZID=America/New_York:20260919T100000
DTEND;TZID=America/New_York:20260919T150000
DTSTAMP:20260423T202659
CREATED:20251201T184802Z
LAST-MODIFIED:20251201T184802Z
UID:8416-1789812000-1789830000@sonshineclub.org
SUMMARY:SonShine Club Super Saturday
DESCRIPTION:
URL:https://sonshineclub.org/event/sonshine-club-super-saturday-15/
LOCATION:First Baptist Spartanburg Hangar\, 250 East Main Street\, Spartanburg\, SC\, 29306\, United States
ORGANIZER;CN="SonShine Club":MAILTO:sbatson@sonshineclub.org
END:VEVENT
BEGIN:VEVENT
DTSTART;TZID=America/New_York:20260919T100000
DTEND;TZID=America/New_York:20260919T150000
DTSTAMP:20260423T202659
CREATED:20260406T193100Z
LAST-MODIFIED:20260406T193100Z
UID:8794-1789812000-1789830000@sonshineclub.org
SUMMARY:SonShine Club Super Saturday @ Lake Bowen Baptist
DESCRIPTION:
URL:https://sonshineclub.org/event/sonshine-club-super-saturday-lake-bowen-baptist-7/
LOCATION:Lake Bowen Baptist\, 404 Sugar Ridge Rd\, Inman\, SC\, 29349\, United States
ORGANIZER;CN="SonShine Club":MAILTO:sbatson@sonshineclub.org
END:VEVENT
BEGIN:VEVENT
DTSTART;TZID=America/New_York:20260924T180000
DTEND;TZID=America/New_York:20260924T200000
DTSTAMP:20260423T202659
CREATED:20251201T184950Z
LAST-MODIFIED:20251201T184950Z
UID:8420-1790272800-1790280000@sonshineclub.org
SUMMARY:SonShine Club Annual Banquet
DESCRIPTION:
URL:https://sonshineclub.org/event/sonshine-club-annual-banquet/
LOCATION:Fairview Baptist Church\, 1551 Bryant Road\, Spartanburg\, SC\, 29303\, United States
ORGANIZER;CN="SonShine Club":MAILTO:sbatson@sonshineclub.org
END:VEVENT
BEGIN:VEVENT
DTSTART;TZID=America/New_York:20261003T090000
DTEND;TZID=America/New_York:20261003T120000
DTSTAMP:20260423T202659
CREATED:20251201T185118Z
LAST-MODIFIED:20260406T193835Z
UID:8422-1791018000-1791028800@sonshineclub.org
SUMMARY:SonShine Club @ Strawberry Hill - Family Fun Day for all locations- NOT CONFIRMED
DESCRIPTION:
URL:https://sonshineclub.org/event/sonshine-club-strawberry-hill-not-confirmed/
LOCATION:Strawberry Hill\, 3097 Highway 11\, Chesnee\, 29323
ORGANIZER;CN="SonShine Club":MAILTO:sbatson@sonshineclub.org
END:VEVENT
BEGIN:VEVENT
DTSTART;TZID=America/New_York:20261017T100000
DTEND;TZID=America/New_York:20261017T150000
DTSTAMP:20260423T202659
CREATED:20251201T185228Z
LAST-MODIFIED:20251201T185228Z
UID:8425-1792231200-1792249200@sonshineclub.org
SUMMARY:SonShine Club Super Saturday
DESCRIPTION:
URL:https://sonshineclub.org/event/sonshine-club-super-saturday-16/
LOCATION:First Baptist Spartanburg Hangar\, 250 East Main Street\, Spartanburg\, SC\, 29306\, United States
ORGANIZER;CN="SonShine Club":MAILTO:sbatson@sonshineclub.org
END:VEVENT
BEGIN:VEVENT
DTSTART;TZID=America/New_York:20261017T100000
DTEND;TZID=America/New_York:20261017T150000
DTSTAMP:20260423T202659
CREATED:20260406T193217Z
LAST-MODIFIED:20260406T193217Z
UID:8798-1792231200-1792249200@sonshineclub.org
SUMMARY:SonShine Club Super Saturday @ Lake Bowen Baptist
DESCRIPTION:
URL:https://sonshineclub.org/event/sonshine-club-super-saturday-lake-bowen-baptist-9/
LOCATION:Lake Bowen Baptist\, 404 Sugar Ridge Rd\, Inman\, SC\, 29349\, United States
ORGANIZER;CN="SonShine Club":MAILTO:sbatson@sonshineclub.org
END:VEVENT
BEGIN:VEVENT
DTSTART;TZID=America/New_York:20261107T093000
DTEND;TZID=America/New_York:20261107T113000
DTSTAMP:20260423T202659
CREATED:20251201T185415Z
LAST-MODIFIED:20251201T185415Z
UID:8429-1794043800-1794051000@sonshineclub.org
SUMMARY:Caring for Caregivers - TO BE DETERMINED
DESCRIPTION:
URL:https://sonshineclub.org/event/caring-for-caregivers-to-be-determined-2/
LOCATION:First Baptist Spartanburg Hangar\, 250 East Main Street\, Spartanburg\, SC\, 29306\, United States
ORGANIZER;CN="SonShine Club":MAILTO:sbatson@sonshineclub.org
END:VEVENT
BEGIN:VEVENT
DTSTART;TZID=America/New_York:20261107T100000
DTEND;TZID=America/New_York:20261107T150000
DTSTAMP:20260423T202659
CREATED:20251201T185317Z
LAST-MODIFIED:20251201T185317Z
UID:8427-1794045600-1794063600@sonshineclub.org
SUMMARY:SonShine Club Super Saturday
DESCRIPTION:
URL:https://sonshineclub.org/event/sonshine-club-super-saturday-17/
LOCATION:First Baptist Spartanburg Hangar\, 250 East Main Street\, Spartanburg\, SC\, 29306\, United States
ORGANIZER;CN="SonShine Club":MAILTO:sbatson@sonshineclub.org
END:VEVENT
BEGIN:VEVENT
DTSTART;TZID=America/New_York:20261107T100000
DTEND;TZID=America/New_York:20261107T150000
DTSTAMP:20260423T202659
CREATED:20260406T193253Z
LAST-MODIFIED:20260406T193253Z
UID:8800-1794045600-1794063600@sonshineclub.org
SUMMARY:SonShine Club Super Saturday @ Lake Bowen Baptist
DESCRIPTION:
URL:https://sonshineclub.org/event/sonshine-club-super-saturday-lake-bowen-baptist-10/
LOCATION:Lake Bowen Baptist\, 404 Sugar Ridge Rd\, Inman\, SC\, 29349\, United States
ORGANIZER;CN="SonShine Club":MAILTO:sbatson@sonshineclub.org
END:VEVENT
BEGIN:VEVENT
DTSTART;TZID=America/New_York:20261121T100000
DTEND;TZID=America/New_York:20261121T150000
DTSTAMP:20260423T202659
CREATED:20251201T185454Z
LAST-MODIFIED:20251201T185454Z
UID:8431-1795255200-1795273200@sonshineclub.org
SUMMARY:SonShine Club Super Saturday
DESCRIPTION:
URL:https://sonshineclub.org/event/sonshine-club-super-saturday-18/
LOCATION:First Baptist Spartanburg Hangar\, 250 East Main Street\, Spartanburg\, SC\, 29306\, United States
ORGANIZER;CN="SonShine Club":MAILTO:sbatson@sonshineclub.org
END:VEVENT
BEGIN:VEVENT
DTSTART;TZID=America/New_York:20261121T100000
DTEND;TZID=America/New_York:20261121T150000
DTSTAMP:20260423T202659
CREATED:20260406T193326Z
LAST-MODIFIED:20260406T193326Z
UID:8802-1795255200-1795273200@sonshineclub.org
SUMMARY:SonShine Club Super Saturday @ Lake Bowen Baptist
DESCRIPTION:
URL:https://sonshineclub.org/event/sonshine-club-super-saturday-lake-bowen-baptist-11/
LOCATION:Lake Bowen Baptist\, 404 Sugar Ridge Rd\, Inman\, SC\, 29349\, United States
ORGANIZER;CN="SonShine Club":MAILTO:sbatson@sonshineclub.org
END:VEVENT
BEGIN:VEVENT
DTSTART;TZID=America/New_York:20261205T100000
DTEND;TZID=America/New_York:20261205T150000
DTSTAMP:20260423T202659
CREATED:20251201T185544Z
LAST-MODIFIED:20251201T185544Z
UID:8433-1796464800-1796482800@sonshineclub.org
SUMMARY:SonShine Club Super Saturday
DESCRIPTION:
URL:https://sonshineclub.org/event/sonshine-club-super-saturday-19/
LOCATION:First Baptist Spartanburg Hangar\, 250 East Main Street\, Spartanburg\, SC\, 29306\, United States
ORGANIZER;CN="SonShine Club":MAILTO:sbatson@sonshineclub.org
END:VEVENT
BEGIN:VEVENT
DTSTART;TZID=America/New_York:20261205T100000
DTEND;TZID=America/New_York:20261205T150000
DTSTAMP:20260423T202659
CREATED:20260406T193358Z
LAST-MODIFIED:20260406T193358Z
UID:8804-1796464800-1796482800@sonshineclub.org
SUMMARY:SonShine Club Super Saturday @ Lake Bowen Baptist
DESCRIPTION:
URL:https://sonshineclub.org/event/sonshine-club-super-saturday-lake-bowen-baptist-12/
LOCATION:Lake Bowen Baptist\, 404 Sugar Ridge Rd\, Inman\, SC\, 29349\, United States
ORGANIZER;CN="SonShine Club":MAILTO:sbatson@sonshineclub.org
END:VEVENT
BEGIN:VEVENT
DTSTART;TZID=America/New_York:20261219T100000
DTEND;TZID=America/New_York:20261219T150000
DTSTAMP:20260423T202659
CREATED:20260406T193430Z
LAST-MODIFIED:20260406T193430Z
UID:8806-1797674400-1797692400@sonshineclub.org
SUMMARY:SonShine Club Super Saturday @ Lake Bowen Baptist
DESCRIPTION:
URL:https://sonshineclub.org/event/sonshine-club-super-saturday-lake-bowen-baptist-13/
LOCATION:Lake Bowen Baptist\, 404 Sugar Ridge Rd\, Inman\, SC\, 29349\, United States
ORGANIZER;CN="SonShine Club":MAILTO:sbatson@sonshineclub.org
END:VEVENT
BEGIN:VEVENT
DTSTART;TZID=America/New_York:20261219T100000
DTEND;TZID=America/New_York:20261220T150000
DTSTAMP:20260423T202659
CREATED:20251201T185659Z
LAST-MODIFIED:20251201T185659Z
UID:8435-1797674400-1797778800@sonshineclub.org
SUMMARY:SonShine Club Super Saturday - Christmas Celebration
DESCRIPTION:
URL:https://sonshineclub.org/event/sonshine-club-super-saturday-christmas-celebration/
LOCATION:First Baptist Spartanburg Hangar\, 250 East Main Street\, Spartanburg\, SC\, 29306\, United States
ORGANIZER;CN="SonShine Club":MAILTO:sbatson@sonshineclub.org
END:VEVENT
END:VCALENDAR